BEGIN:VCALENDAR
VERSION:2.0
PRODID:-//Covenant Living of Florida - ECPv6.15.18//NONSGML v1.0//EN
CALSCALE:GREGORIAN
METHOD:PUBLISH
X-WR-CALNAME:Covenant Living of Florida
X-ORIGINAL-URL:https://www.covlivingflorida.org
X-WR-CALDESC:Events for Covenant Living of Florida
REFRESH-INTERVAL;VALUE=DURATION:PT1H
X-Robots-Tag:noindex
X-PUBLISHED-TTL:PT1H
BEGIN:VTIMEZONE
TZID:America/New_York
BEGIN:DAYLIGHT
TZOFFSETFROM:-0500
TZOFFSETTO:-0400
TZNAME:EDT
DTSTART:20250309T070000
END:DAYLIGHT
BEGIN:STANDARD
TZOFFSETFROM:-0400
TZOFFSETTO:-0500
TZNAME:EST
DTSTART:20251102T060000
END:STANDARD
BEGIN:DAYLIGHT
TZOFFSETFROM:-0500
TZOFFSETTO:-0400
TZNAME:EDT
DTSTART:20260308T070000
END:DAYLIGHT
BEGIN:STANDARD
TZOFFSETFROM:-0400
TZOFFSETTO:-0500
TZNAME:EST
DTSTART:20261101T060000
END:STANDARD
BEGIN:DAYLIGHT
TZOFFSETFROM:-0500
TZOFFSETTO:-0400
TZNAME:EDT
DTSTART:20270314T070000
END:DAYLIGHT
BEGIN:STANDARD
TZOFFSETFROM:-0400
TZOFFSETTO:-0500
TZNAME:EST
DTSTART:20271107T060000
END:STANDARD
END:VTIMEZONE
BEGIN:VEVENT
DTSTART;TZID=America/New_York:20260401T100000
DTEND;TZID=America/New_York:20260401T140000
DTSTAMP:20260421T055633
CREATED:20260128T155046Z
LAST-MODIFIED:20260128T155122Z
UID:10000392-1775037600-1775052000@www.covlivingflorida.org
SUMMARY:Walk In Wednesday
DESCRIPTION:
URL:https://www.covlivingflorida.org/event/walk-in-wednesday-7/
LOCATION:Covenant Living of Florida\, 9215 West Broward Blvd.\, Plantation\, FL\, 33324\, United States
CATEGORIES:General
ATTACH;FMTTYPE=image/jpeg:https://www.covlivingflorida.org/wp-content/uploads/2026/01/CLF-047-Thumbnail-Walk-In-Weds-event.jpg
END:VEVENT
END:VCALENDAR