BEGIN:VCALENDAR
VERSION:2.0
PRODID:-//Covenant Living of Florida - ECPv6.15.18//NONSGML v1.0//EN
CALSCALE:GREGORIAN
METHOD:PUBLISH
X-ORIGINAL-URL:https://www.covlivingflorida.org
X-WR-CALDESC:Events for Covenant Living of Florida
REFRESH-INTERVAL;VALUE=DURATION:PT1H
X-Robots-Tag:noindex
X-PUBLISHED-TTL:PT1H
BEGIN:VTIMEZONE
TZID:America/New_York
BEGIN:DAYLIGHT
TZOFFSETFROM:-0500
TZOFFSETTO:-0400
TZNAME:EDT
DTSTART:20230312T070000
END:DAYLIGHT
BEGIN:STANDARD
TZOFFSETFROM:-0400
TZOFFSETTO:-0500
TZNAME:EST
DTSTART:20231105T060000
END:STANDARD
BEGIN:DAYLIGHT
TZOFFSETFROM:-0500
TZOFFSETTO:-0400
TZNAME:EDT
DTSTART:20240310T070000
END:DAYLIGHT
BEGIN:STANDARD
TZOFFSETFROM:-0400
TZOFFSETTO:-0500
TZNAME:EST
DTSTART:20241103T060000
END:STANDARD
BEGIN:DAYLIGHT
TZOFFSETFROM:-0500
TZOFFSETTO:-0400
TZNAME:EDT
DTSTART:20250309T070000
END:DAYLIGHT
BEGIN:STANDARD
TZOFFSETFROM:-0400
TZOFFSETTO:-0500
TZNAME:EST
DTSTART:20251102T060000
END:STANDARD
END:VTIMEZONE
BEGIN:VEVENT
DTSTART;TZID=America/New_York:20240723T143000
DTEND;TZID=America/New_York:20240723T143000
DTSTAMP:20260424T065726
CREATED:20240521T131616Z
LAST-MODIFIED:20240521T131616Z
UID:10000165-1721745000-1721745000@www.covlivingflorida.org
SUMMARY:The Sound of Music Story with author Tom Santopietro
DESCRIPTION:Rarely does a film capture the love and imagination of the movie-going public in the way that “The Sound of Music” did. Join author Tom Santopietro for a behind- the-scenes look at this Hollywood classic\, the critical controversy which greeted the movie\, the film’s relationship to the turbulent 1960s and the super stardom which engulfed Julie Andrews. Don’t miss this exclusive presentation! The first 5 people to RSVP and attend will receive a FREE copy of Tom’s book!
URL:https://www.covlivingflorida.org/event/the-sound-of-music-story-with-author-tom-santopietro/
LOCATION:FL
CATEGORIES:General
ATTACH;FMTTYPE=image/jpeg:https://www.covlivingflorida.org/wp-content/uploads/2024/05/CLF-025-thumbnail_7-23-event.jpg
END:VEVENT
END:VCALENDAR