BEGIN:VCALENDAR
VERSION:2.0
PRODID:-//Covenant Living of Florida - ECPv6.15.18//NONSGML v1.0//EN
CALSCALE:GREGORIAN
METHOD:PUBLISH
X-ORIGINAL-URL:https://www.covlivingflorida.org
X-WR-CALDESC:Events for Covenant Living of Florida
REFRESH-INTERVAL;VALUE=DURATION:PT1H
X-Robots-Tag:noindex
X-PUBLISHED-TTL:PT1H
BEGIN:VTIMEZONE
TZID:America/New_York
BEGIN:DAYLIGHT
TZOFFSETFROM:-0500
TZOFFSETTO:-0400
TZNAME:EDT
DTSTART:20220313T070000
END:DAYLIGHT
BEGIN:STANDARD
TZOFFSETFROM:-0400
TZOFFSETTO:-0500
TZNAME:EST
DTSTART:20221106T060000
END:STANDARD
BEGIN:DAYLIGHT
TZOFFSETFROM:-0500
TZOFFSETTO:-0400
TZNAME:EDT
DTSTART:20230312T070000
END:DAYLIGHT
BEGIN:STANDARD
TZOFFSETFROM:-0400
TZOFFSETTO:-0500
TZNAME:EST
DTSTART:20231105T060000
END:STANDARD
BEGIN:DAYLIGHT
TZOFFSETFROM:-0500
TZOFFSETTO:-0400
TZNAME:EDT
DTSTART:20240310T070000
END:DAYLIGHT
BEGIN:STANDARD
TZOFFSETFROM:-0400
TZOFFSETTO:-0500
TZNAME:EST
DTSTART:20241103T060000
END:STANDARD
END:VTIMEZONE
BEGIN:VEVENT
DTSTART;TZID=America/New_York:20230809T140000
DTEND;TZID=America/New_York:20230809T140000
DTSTAMP:20260422T052818
CREATED:20230525T155955Z
LAST-MODIFIED:20230525T155955Z
UID:10000142-1691589600-1691589600@www.covlivingflorida.org
SUMMARY:Back-To-School Best
DESCRIPTION:It’s almost time to go back to school and our residents are sending students notes wishing them well for the new year. Join us for an afternoon of friendship and refreshments while you create cards of encouragement and take part in a fun Covenant Living annual community tradition.
URL:https://www.covlivingflorida.org/event/back-to-school-best/
LOCATION:FL
CATEGORIES:General
ATTACH;FMTTYPE=image/jpeg:https://www.covlivingflorida.org/wp-content/uploads/2023/05/CLF-015-thumbnail_8-9-event.jpg
END:VEVENT
END:VCALENDAR