BEGIN:VCALENDAR
VERSION:2.0
PRODID:-//Covenant Living of Florida - ECPv6.15.18//NONSGML v1.0//EN
CALSCALE:GREGORIAN
METHOD:PUBLISH
X-ORIGINAL-URL:https://www.covlivingflorida.org
X-WR-CALDESC:Events for Covenant Living of Florida
REFRESH-INTERVAL;VALUE=DURATION:PT1H
X-Robots-Tag:noindex
X-PUBLISHED-TTL:PT1H
BEGIN:VTIMEZONE
TZID:America/New_York
BEGIN:DAYLIGHT
TZOFFSETFROM:-0500
TZOFFSETTO:-0400
TZNAME:EDT
DTSTART:20220313T070000
END:DAYLIGHT
BEGIN:STANDARD
TZOFFSETFROM:-0400
TZOFFSETTO:-0500
TZNAME:EST
DTSTART:20221106T060000
END:STANDARD
BEGIN:DAYLIGHT
TZOFFSETFROM:-0500
TZOFFSETTO:-0400
TZNAME:EDT
DTSTART:20230312T070000
END:DAYLIGHT
BEGIN:STANDARD
TZOFFSETFROM:-0400
TZOFFSETTO:-0500
TZNAME:EST
DTSTART:20231105T060000
END:STANDARD
BEGIN:DAYLIGHT
TZOFFSETFROM:-0500
TZOFFSETTO:-0400
TZNAME:EDT
DTSTART:20240310T070000
END:DAYLIGHT
BEGIN:STANDARD
TZOFFSETFROM:-0400
TZOFFSETTO:-0500
TZNAME:EST
DTSTART:20241103T060000
END:STANDARD
END:VTIMEZONE
BEGIN:VEVENT
DTSTART;TZID=America/New_York:20230725T113000
DTEND;TZID=America/New_York:20230725T113000
DTSTAMP:20260422T065213
CREATED:20230525T155553Z
LAST-MODIFIED:20230525T155553Z
UID:10000140-1690284600-1690284600@www.covlivingflorida.org
SUMMARY:Lunch & Learn: Wellness with Tatyana Borisiak\, MD\, Comprehensive Care Group of South Florida
DESCRIPTION:Life in a continuing care retirement community like Covenant Living of Florida offers many advantages\, one of which is quality health care conveniently located right on campus. Dr. Borisiak is our Wellness Center’s resident physician. Join her for lunch and learn about the services she offers and the many benefits the center provides our residents.
URL:https://www.covlivingflorida.org/event/lunch-learn-wellness-with-tatyana-borisiak-md-comprehensive-care-group-of-south-florida/
LOCATION:FL
CATEGORIES:General
ATTACH;FMTTYPE=image/jpeg:https://www.covlivingflorida.org/wp-content/uploads/2023/05/CLF-015-thumbnail_7-25-event.jpg
END:VEVENT
END:VCALENDAR