BEGIN:VCALENDAR
VERSION:2.0
PRODID:-//Covenant Living of Florida - ECPv6.15.18//NONSGML v1.0//EN
CALSCALE:GREGORIAN
METHOD:PUBLISH
X-WR-CALNAME:Covenant Living of Florida
X-ORIGINAL-URL:https://www.covlivingflorida.org
X-WR-CALDESC:Events for Covenant Living of Florida
REFRESH-INTERVAL;VALUE=DURATION:PT1H
X-Robots-Tag:noindex
X-PUBLISHED-TTL:PT1H
BEGIN:VTIMEZONE
TZID:America/New_York
BEGIN:DAYLIGHT
TZOFFSETFROM:-0500
TZOFFSETTO:-0400
TZNAME:EDT
DTSTART:20220313T070000
END:DAYLIGHT
BEGIN:STANDARD
TZOFFSETFROM:-0400
TZOFFSETTO:-0500
TZNAME:EST
DTSTART:20221106T060000
END:STANDARD
BEGIN:DAYLIGHT
TZOFFSETFROM:-0500
TZOFFSETTO:-0400
TZNAME:EDT
DTSTART:20230312T070000
END:DAYLIGHT
BEGIN:STANDARD
TZOFFSETFROM:-0400
TZOFFSETTO:-0500
TZNAME:EST
DTSTART:20231105T060000
END:STANDARD
BEGIN:DAYLIGHT
TZOFFSETFROM:-0500
TZOFFSETTO:-0400
TZNAME:EDT
DTSTART:20240310T070000
END:DAYLIGHT
BEGIN:STANDARD
TZOFFSETFROM:-0400
TZOFFSETTO:-0500
TZNAME:EST
DTSTART:20241103T060000
END:STANDARD
END:VTIMEZONE
BEGIN:VEVENT
DTSTART;TZID=America/New_York:20230712T100000
DTEND;TZID=America/New_York:20230712T100000
DTSTAMP:20260422T083135
CREATED:20230524T160332Z
LAST-MODIFIED:20230524T160332Z
UID:10000138-1689156000-1689156000@www.covlivingflorida.org
SUMMARY:New Discoveries Luncheon at Mustard Seed Bistro
DESCRIPTION:Covenant Living of Florida is now offering new financial options to help you better plan your financial future. Join us for lunch to learn about our new Lifecare agreement\, our new monthly rental agreement and our new lower pricing on select residences. We’re making it easier than ever for you to enjoy the security and benefits of the Covenant Living lifestyle. Bring your appetite and your questions! \nSeating for this event is limited.
URL:https://www.covlivingflorida.org/event/new-discoveries-luncheon-at-mustard-seed-bistro-july/
LOCATION:Mustard Seed Bistro\, 256 S University Drive\, Plantation\, FL\, United States
CATEGORIES:General
ATTACH;FMTTYPE=image/jpeg:https://www.covlivingflorida.org/wp-content/uploads/2023/05/CLF-014-thumbnail_7-12-event.jpg
END:VEVENT
END:VCALENDAR