BEGIN:VCALENDAR
VERSION:2.0
PRODID:-//Covenant Living of Florida - ECPv6.15.18//NONSGML v1.0//EN
CALSCALE:GREGORIAN
METHOD:PUBLISH
X-WR-CALNAME:Covenant Living of Florida
X-ORIGINAL-URL:https://www.covlivingflorida.org
X-WR-CALDESC:Events for Covenant Living of Florida
REFRESH-INTERVAL;VALUE=DURATION:PT1H
X-Robots-Tag:noindex
X-PUBLISHED-TTL:PT1H
BEGIN:VTIMEZONE
TZID:America/New_York
BEGIN:DAYLIGHT
TZOFFSETFROM:-0500
TZOFFSETTO:-0400
TZNAME:EDT
DTSTART:20220313T070000
END:DAYLIGHT
BEGIN:STANDARD
TZOFFSETFROM:-0400
TZOFFSETTO:-0500
TZNAME:EST
DTSTART:20221106T060000
END:STANDARD
BEGIN:DAYLIGHT
TZOFFSETFROM:-0500
TZOFFSETTO:-0400
TZNAME:EDT
DTSTART:20230312T070000
END:DAYLIGHT
BEGIN:STANDARD
TZOFFSETFROM:-0400
TZOFFSETTO:-0500
TZNAME:EST
DTSTART:20231105T060000
END:STANDARD
BEGIN:DAYLIGHT
TZOFFSETFROM:-0500
TZOFFSETTO:-0400
TZNAME:EDT
DTSTART:20240310T070000
END:DAYLIGHT
BEGIN:STANDARD
TZOFFSETFROM:-0400
TZOFFSETTO:-0500
TZNAME:EST
DTSTART:20241103T060000
END:STANDARD
END:VTIMEZONE
BEGIN:VEVENT
DTSTART;TZID=America/New_York:20230706T140000
DTEND;TZID=America/New_York:20230706T140000
DTSTAMP:20260422T064840
CREATED:20230525T155225Z
LAST-MODIFIED:20230525T155225Z
UID:10000139-1688652000-1688652000@www.covlivingflorida.org
SUMMARY:Ventriloquist Gary Willner
DESCRIPTION:Singer\, songwriter and ventriloquist\, Gary Willner has opened for many notable entertainers including Robert Klein\, Debbie Reynolds and Alan King. Now\, he’ll be bringing his talent to the Covenant Living stage. Join us for a fun afternoon—indulge in our dessert and coffee bar\, meet our residents and enjoy the show!
URL:https://www.covlivingflorida.org/event/ventriloquist-gary-willner/
LOCATION:FL
CATEGORIES:General
ATTACH;FMTTYPE=image/jpeg:https://www.covlivingflorida.org/wp-content/uploads/2023/05/CLF-015-thumbnail_7-6-event.jpg
END:VEVENT
END:VCALENDAR