BEGIN:VCALENDAR
VERSION:2.0
PRODID:-//Covenant Living of Florida - ECPv6.15.18//NONSGML v1.0//EN
CALSCALE:GREGORIAN
METHOD:PUBLISH
X-WR-CALNAME:Covenant Living of Florida
X-ORIGINAL-URL:https://www.covlivingflorida.org
X-WR-CALDESC:Events for Covenant Living of Florida
REFRESH-INTERVAL;VALUE=DURATION:PT1H
X-Robots-Tag:noindex
X-PUBLISHED-TTL:PT1H
BEGIN:VTIMEZONE
TZID:America/New_York
BEGIN:DAYLIGHT
TZOFFSETFROM:-0500
TZOFFSETTO:-0400
TZNAME:EDT
DTSTART:20230312T070000
END:DAYLIGHT
BEGIN:STANDARD
TZOFFSETFROM:-0400
TZOFFSETTO:-0500
TZNAME:EST
DTSTART:20231105T060000
END:STANDARD
BEGIN:DAYLIGHT
TZOFFSETFROM:-0500
TZOFFSETTO:-0400
TZNAME:EDT
DTSTART:20240310T070000
END:DAYLIGHT
BEGIN:STANDARD
TZOFFSETFROM:-0400
TZOFFSETTO:-0500
TZNAME:EST
DTSTART:20241103T060000
END:STANDARD
BEGIN:DAYLIGHT
TZOFFSETFROM:-0500
TZOFFSETTO:-0400
TZNAME:EDT
DTSTART:20250309T070000
END:DAYLIGHT
BEGIN:STANDARD
TZOFFSETFROM:-0400
TZOFFSETTO:-0500
TZNAME:EST
DTSTART:20251102T060000
END:STANDARD
END:VTIMEZONE
BEGIN:VEVENT
DTSTART;TZID=America/New_York:20240806T143000
DTEND;TZID=America/New_York:20240806T143000
DTSTAMP:20260420T095442
CREATED:20240521T131951Z
LAST-MODIFIED:20240521T131951Z
UID:10000166-1722954600-1722954600@www.covlivingflorida.org
SUMMARY:Sip & Social
DESCRIPTION:Come in to cool off with handcrafted mocktails and delicious appetizers as you mingle with new friends and experience what the Covenant Living lifestyle is all about. Chat with our residents— they know us best—and find out more about a lifestyle you’ll love!
URL:https://www.covlivingflorida.org/event/sip-social/
LOCATION:FL
CATEGORIES:General
ATTACH;FMTTYPE=image/jpeg:https://www.covlivingflorida.org/wp-content/uploads/2024/05/CLF-025-thumbnail_8-6-event.jpg
END:VEVENT
BEGIN:VEVENT
DTSTART;TZID=America/New_York:20240822T110000
DTEND;TZID=America/New_York:20240822T110000
DTSTAMP:20260420T095442
CREATED:20240521T132517Z
LAST-MODIFIED:20240521T132517Z
UID:10000168-1724324400-1724324400@www.covlivingflorida.org
SUMMARY:Discovery Luncheon Series: Lifecare 101
DESCRIPTION:Lifecare is a unique financial contract that lets you predetermine your costs for future healthcare. It can provide financial predictability and estate planning advantages as well as unparalleled peace of mind for you and your loved ones. Join us for lunch to learn if Lifecare is the right choice for you.
URL:https://www.covlivingflorida.org/event/discovery-luncheon-series-lifecare-101/
LOCATION:FL
CATEGORIES:General
ATTACH;FMTTYPE=image/jpeg:https://www.covlivingflorida.org/wp-content/uploads/2024/05/CLF-025-thumbnail_8-22-event.jpg
END:VEVENT
BEGIN:VEVENT
DTSTART;TZID=America/New_York:20240829T103000
DTEND;TZID=America/New_York:20240829T103000
DTSTAMP:20260420T095442
CREATED:20240816T162256Z
LAST-MODIFIED:20240816T162256Z
UID:10000173-1724927400-1724927400@www.covlivingflorida.org
SUMMARY:The Mustard Seed  Luncheon
DESCRIPTION:Join us for a light lunch at local favorite\, The Mustard Seed\, to learn more how Covenant Living of Florida prepares for possible hurricanes and how our residents have peace of mind and less stress leading up to and during. Plus\, learn more how you can save $24\,000 off select residences.
URL:https://www.covlivingflorida.org/event/the-mustard-seed-luncheon/
LOCATION:FL
CATEGORIES:General
ATTACH;FMTTYPE=image/jpeg:https://www.covlivingflorida.org/wp-content/uploads/2024/08/CLF-014-thumbnail_6-13-event.jpg
END:VEVENT
END:VCALENDAR