BEGIN:VCALENDAR
VERSION:2.0
PRODID:-//Covenant Living of Florida - ECPv6.15.18//NONSGML v1.0//EN
CALSCALE:GREGORIAN
METHOD:PUBLISH
X-ORIGINAL-URL:https://www.covlivingflorida.org
X-WR-CALDESC:Events for Covenant Living of Florida
REFRESH-INTERVAL;VALUE=DURATION:PT1H
X-Robots-Tag:noindex
X-PUBLISHED-TTL:PT1H
BEGIN:VTIMEZONE
TZID:America/New_York
BEGIN:DAYLIGHT
TZOFFSETFROM:-0500
TZOFFSETTO:-0400
TZNAME:EDT
DTSTART:20220313T070000
END:DAYLIGHT
BEGIN:STANDARD
TZOFFSETFROM:-0400
TZOFFSETTO:-0500
TZNAME:EST
DTSTART:20221106T060000
END:STANDARD
BEGIN:DAYLIGHT
TZOFFSETFROM:-0500
TZOFFSETTO:-0400
TZNAME:EDT
DTSTART:20230312T070000
END:DAYLIGHT
BEGIN:STANDARD
TZOFFSETFROM:-0400
TZOFFSETTO:-0500
TZNAME:EST
DTSTART:20231105T060000
END:STANDARD
BEGIN:DAYLIGHT
TZOFFSETFROM:-0500
TZOFFSETTO:-0400
TZNAME:EDT
DTSTART:20240310T070000
END:DAYLIGHT
BEGIN:STANDARD
TZOFFSETFROM:-0400
TZOFFSETTO:-0500
TZNAME:EST
DTSTART:20241103T060000
END:STANDARD
END:VTIMEZONE
BEGIN:VEVENT
DTSTART;TZID=America/New_York:20230906T110000
DTEND;TZID=America/New_York:20230906T110000
DTSTAMP:20260422T022756
CREATED:20230728T145829Z
LAST-MODIFIED:20230728T145829Z
UID:10000143-1693998000-1693998000@www.covlivingflorida.org
SUMMARY:Downsizing Made Easy with Organize2Minimize
DESCRIPTION:Downsizing can be daunting—but it needn’t be stressful. Join us for a discussion with the experts from Organize2Minimize\, who will be here to offer valuable tips and advice on how to make the process easy and carefree. Afterwards\, join us for a delicious chef-prepared lunch and tour our lovely campus!
URL:https://www.covlivingflorida.org/event/downsizing-made-easy-with-organize2minimize/
LOCATION:FL
CATEGORIES:General
ATTACH;FMTTYPE=image/jpeg:https://www.covlivingflorida.org/wp-content/uploads/2023/07/CLF-017-Thumbnail-9_6-Event.jpg
END:VEVENT
BEGIN:VEVENT
DTSTART;TZID=America/New_York:20230919T140000
DTEND;TZID=America/New_York:20230919T140000
DTSTAMP:20260422T022756
CREATED:20230728T150839Z
LAST-MODIFIED:20230728T150839Z
UID:10000146-1695132000-1695132000@www.covlivingflorida.org
SUMMARY:A Perfect Blend: Wine & Cheese Pairing with Mustard Seed Bistro
DESCRIPTION:Over a delicious wine and cheese sampling from our good friends at the Mustard Seed Bistro\, enjoy a relaxing afternoon meeting the people who know us best—our residents! Learn why they chose Covenant Living of Florida and the security that life here offers.
URL:https://www.covlivingflorida.org/event/a-perfect-blend-wine-cheese-pairing-with-mustard-seed-bistro/
LOCATION:FL
CATEGORIES:General
ATTACH;FMTTYPE=image/jpeg:https://www.covlivingflorida.org/wp-content/uploads/2023/07/CLF-017-Thumbnail-9_19-Event.jpg
END:VEVENT
END:VCALENDAR